BEGIN:VCALENDAR
VERSION:2.0
PRODID:icalendar-ruby
CALSCALE:GREGORIAN
METHOD:PUBLISH
BEGIN:VEVENT
DTSTAMP:20260419T213424Z
UID:7-1354406@destinyreno.com
DTSTART:20260806T010000Z
DTEND:20260806T030000Z
CLASS:PUBLIC
CREATED:20260419T135641
DESCRIPTION:20 Minute Prayer Times
LAST-MODIFIED:20260419T135641
LOCATION:
SUMMARY:Healing Prayer
URL;VALUE=URI:https://www.destinyreno.com/events/healing-prayer/2026-08-05
ATTACH;FILENAME=Next-Steps-%28Presentation-%2843%29%29-%281920-%C3%97-1200-
 px%29-%283%29.png;FMTTYPE=image/png:https://dq5pwpg1q8ru0.cloudfront.net/2
 025/09/06/17/57/08/fc97567a-8b42-4f6e-8983-ccbcd6f9a4ae/Next-Steps-%2528Pr
 esentation-%252843%2529%2529-%25281920-%25C3%2597-1200-px%2529-%25283%2529
 .png
END:VEVENT
END:VCALENDAR
