BEGIN:VCALENDAR
VERSION:2.0
PRODID:icalendar-ruby
CALSCALE:GREGORIAN
METHOD:PUBLISH
BEGIN:VEVENT
DTSTAMP:20260420T002822Z
UID:9-1354471@destinyreno.com
DTSTART:20260913T172500Z
DTEND:20260913T190000Z
CLASS:PUBLIC
CREATED:20260419T135641
DESCRIPTION:Sunday Service
LAST-MODIFIED:20260419T135641
LOCATION:
SUMMARY:Sunday Service
URL;VALUE=URI:https://www.destinyreno.com/events/sunday-service/2026-09-13
ATTACH;FILENAME=20250907_110109.jpg;FMTTYPE=image/jpeg:https://dq5pwpg1q8ru
 0.cloudfront.net/2025/09/14/06/39/20/d57c1b8f-a70d-4de4-a8a2-8dbd25d97866/
 20250907_110109.jpg
END:VEVENT
END:VCALENDAR
