BEGIN:VCALENDAR
VERSION:2.0
PRODID:icalendar-ruby
CALSCALE:GREGORIAN
METHOD:PUBLISH
BEGIN:VEVENT
DTSTAMP:20260424T154346Z
UID:6-1360645@destinyreno.com
DTSTART:20261008T010000Z
DTEND:20261008T023000Z
CLASS:PUBLIC
CREATED:20260424T083929
DESCRIPTION:Live Worship Music and Prayer every Wednesday evening
LAST-MODIFIED:20260424T083929
LOCATION:
SUMMARY:Worship
URL;VALUE=URI:https://www.destinyreno.com/events/worship/2026-10-07
ATTACH;FILENAME=January-Destiny-%281920-%C3%97-1200-px%29-%286%29.png;FMTTY
 PE=image/png:https://dq5pwpg1q8ru0.cloudfront.net/2025/10/12/22/12/39/ef14
 e3b0-a4de-4582-b4e7-4d32e3cad82b/January-Destiny-%25281920-%25C3%2597-1200
 -px%2529-%25286%2529.png
END:VEVENT
END:VCALENDAR
